BEGIN:VCALENDAR
VERSION:2.0
PRODID:-//HaffNet - ECPv6.15.20//NONSGML v1.0//EN
CALSCALE:GREGORIAN
METHOD:PUBLISH
X-ORIGINAL-URL:https://haffnet-online.de
X-WR-CALDESC:Veranstaltungen für HaffNet
REFRESH-INTERVAL;VALUE=DURATION:PT1H
X-Robots-Tag:noindex
X-PUBLISHED-TTL:PT1H
BEGIN:VTIMEZONE
TZID:UTC
BEGIN:STANDARD
TZOFFSETFROM:+0000
TZOFFSETTO:+0000
TZNAME:UTC
DTSTART:20250101T000000
END:STANDARD
END:VTIMEZONE
BEGIN:VEVENT
DTSTART;TZID=UTC:20260318T153000
DTEND;TZID=UTC:20260318T170000
DTSTAMP:20260425T040440
CREATED:20260122T145713Z
LAST-MODIFIED:20260122T145713Z
UID:987507887-1773847800-1773853200@haffnet-online.de
SUMMARY:Medizinforum „Unklare Bauchschmerzen – was tun?“
DESCRIPTION:Am 18.03.2026 lädt Herr Dirk Werner\, Chefarzt der Klinik für Innere Medizin\, Sie herzlich zum Medizinforum „Unklare Bauchschmerzen – was tun?“ ein. \nBeginn ist um 15:30 Uhr im Raum „Lilienthal“ im AMEOS Hanse Klinikum Anklam. Im Anschluss des Vortrages können Sie durch Ihre individuellen Fragen in den persönlichen Austausch mit dem Referenten treten. \nBitte beachten Sie stets die aktuellen Veranstaltungshinweise in der örtlichen Tagespresse.
URL:https://haffnet-online.de/event/medizinforum-unklare-bauchschmerzen-was-tun/
LOCATION:AMEOS Klinikum Anklam – Raum Lilienthal\, Hospitalstraße 19\, Anklam\, 17389\, Deutschland
END:VEVENT
BEGIN:VEVENT
DTSTART;TZID=UTC:20260325T130000
DTEND;TZID=UTC:20260325T170000
DTSTAMP:20260425T040440
CREATED:20260310T103401Z
LAST-MODIFIED:20260310T104143Z
UID:987508075-1774443600-1774458000@haffnet-online.de
SUMMARY:4. Fachtag Long Covid
DESCRIPTION:Die SPD-Landtagsfraktion lädt gemeinsam mit der Fraktion DIE LINKE und in Kooperation mit der Initiative „NichtGenesen“ zum 4. Fachtag Long Covid ein. Dieser Fachtag wird sich mit dem aktuellen Forschungsstand zu postinfektiösen Erkrankungen und den Versorgungsstrukturen in Mecklenburg-Vorpommern beschäftigen. \nZiel dieses Fachtages ist es\, Akteure des Gesundheitswesens\, Patientinnen und Patienten\, Wissenschaft und Politik zum Austausch und zur Diskussion zusammenzubringen. \nDatum: 25.03.2026Beginn: 13:00 UhrEnde: 17:00 UhrOrt: online per Livestream unter https://youtube.com/live/EVWvqGOQepk \nDas Tagungsprogramm der Veranstaltung finden Sie in der angefügten Datei. \n			\n				Tagungsprogramm
URL:https://haffnet-online.de/event/4-fachtag-long-covid/
END:VEVENT
BEGIN:VEVENT
DTSTART;TZID=UTC:20260325T153000
DTEND;TZID=UTC:20260325T170000
DTSTAMP:20260425T040440
CREATED:20260112T094519Z
LAST-MODIFIED:20260112T094519Z
UID:987507869-1774452600-1774458000@haffnet-online.de
SUMMARY:Medizinforum: „Vom Zappelphilipp zum zerstreuten Professor – Ein Leben mit ADHS“
DESCRIPTION:Am 25.03.2026 laden Herr Vladimir Pejicic\, Leitender Oberarzt der Klinik für Psychiatrie\, und Frau Stephanie Burian\, Leitende Psychologin der Klinik der Psychiatrie\, Sie herzlich zum Medizinforum „Vom Zappelphilipp zum zerstreuten Professor – Ein Leben mit ADHS“ ein. \nBeginn ist um 15:30 Uhr im Sport- und Veranstaltungssaal (Haus 4) im AMEOS Klinikum Ueckermünde.Im Anschluss des Vortrages können Sie durch Ihre individuellen Fragen in den persönlichen Austausch mit den Referenten treten.
URL:https://haffnet-online.de/event/medizinforum-vom-zappelphilipp-zum-zerstreuten-professor-ein-leben-mit-adhs/
LOCATION:Veranstaltungssaal im Therapiezentrum (Haus 4) im AMEOS Klinikum Ueckermünde\, Ueckermünde\, 17373\, Deutschland
END:VEVENT
END:VCALENDAR