BEGIN:VCALENDAR
VERSION:2.0
PRODID:-//HaffNet - ECPv6.15.20//NONSGML v1.0//EN
CALSCALE:GREGORIAN
METHOD:PUBLISH
X-WR-CALNAME:HaffNet
X-ORIGINAL-URL:https://haffnet-online.de
X-WR-CALDESC:Veranstaltungen für HaffNet
REFRESH-INTERVAL;VALUE=DURATION:PT1H
X-Robots-Tag:noindex
X-PUBLISHED-TTL:PT1H
BEGIN:VTIMEZONE
TZID:UTC
BEGIN:STANDARD
TZOFFSETFROM:+0000
TZOFFSETTO:+0000
TZNAME:UTC
DTSTART:20240101T000000
END:STANDARD
END:VTIMEZONE
BEGIN:VEVENT
DTSTART;TZID=UTC:20251126T153000
DTEND;TZID=UTC:20251126T170000
DTSTAMP:20260425T112158
CREATED:20250203T154236Z
LAST-MODIFIED:20250203T154331Z
UID:987507427-1764171000-1764176400@haffnet-online.de
SUMMARY:Medizinforum „Wird Dr. KI Ihr neuer Arzt? - künstliche Intelligenz in der Medizin“
DESCRIPTION:Am 26.11.2025 lädt Herr Michal Konopeski\, Chefarzt der Klinik für Innere Medizin\, Sie herzlich zum Medizinforum „Wenn jede Minute zählt: Wann Sie zum Hausarzt gehen\, den Bereitschaftsdienst anrufen oder in die Notaufnahme müssen?   \nund \nWird Dr. KI Ihr neuer Arzt? – künstliche Intelligenz in der Medizin“ ein. \nBeginn ist um 15:30 Uhr im Sport- und Veranstaltungssaal im Ameos Klinikum Ueckermünde. Im Anschluss des Vortrages können Sie durch Ihre individuellen Fragen in den persönlichen Austausch mit den Referenten treten.
URL:https://haffnet-online.de/event/medizinforum-wird-dr-ki-ihr-neuer-arzt-kuenstliche-intelligenz-in-der-medizin/
LOCATION:Veranstaltungssaal im Therapiezentrum (Haus 4) im AMEOS Klinikum Ueckermünde\, Ueckermünde\, 17373\, Deutschland
END:VEVENT
END:VCALENDAR