BEGIN:VCALENDAR
VERSION:2.0
PRODID:-//HaffNet - ECPv6.15.20//NONSGML v1.0//EN
CALSCALE:GREGORIAN
METHOD:PUBLISH
X-ORIGINAL-URL:https://haffnet-online.de
X-WR-CALDESC:Veranstaltungen für HaffNet
REFRESH-INTERVAL;VALUE=DURATION:PT1H
X-Robots-Tag:noindex
X-PUBLISHED-TTL:PT1H
BEGIN:VTIMEZONE
TZID:UTC
BEGIN:STANDARD
TZOFFSETFROM:+0000
TZOFFSETTO:+0000
TZNAME:UTC
DTSTART:20240101T000000
END:STANDARD
END:VTIMEZONE
BEGIN:VEVENT
DTSTART;VALUE=DATE:20251008
DTEND;VALUE=DATE:20251012
DTSTAMP:20260425T130619
CREATED:20250507T132413Z
LAST-MODIFIED:20250605T122759Z
UID:987507621-1759881600-1760227199@haffnet-online.de
SUMMARY:2. Interdisziplinärer Sonographie-Grundkurs am Haff
DESCRIPTION:Die Gesundheitsregion Vorpommern GmbH lädt herzlich zum Sonographie-Grundkurs unter der Leitung von Dr. med. J. Spengler (DEGUM III) ein. \nKursgebühr:\n750\,00 € (ermäßigt 650\,00 € für HaffNet- und AMEOS-Mitglieder)\nInklusive: Frühstück\, Mittagessen\, Nachmittagssnack und Teilnahmezertifikat \nKursleitung:\nDr. med. Jörg Spengler – DEGUM-Kursleiter\, DEGUM III \nOrganisation: Dr. med. Thomas Kliewe \nFortbildungspunkte bei der Ärztekammer M-V beantragt\nAbschließendes DEGUM-Zertifikat \nAnmeldung & Kontakt:\nGesundheitsregion Vorpommern GmbH\nRavensteinstraße 23\, 17373 Seebad Ueckermünde \nTelefon: 039771 537878 | E-Mail: info@gesund-in-vorpommern.de \nReferenten & Tutoren:\nDr. med. Jörg Spengler • MUDR Julius Bok • Dr. med. Thomas Kliewe • Dr. med. Joachim Stock • Dr. med. Zoltán Jószef Kiss \nAlle Infos und den genauen Ablaufplan finden Sie hier im Flyer!
URL:https://haffnet-online.de/event/2-interdisziplinaerer-sonographie-grundkurs-am-haff/
LOCATION:AMEOS Klinikum Ueckermünde\, Ravensteinstraße 23\, Ueckermünde\, 17373
END:VEVENT
BEGIN:VEVENT
DTSTART;TZID=UTC:20251015T180000
DTEND;TZID=UTC:20251015T203000
DTSTAMP:20260425T130619
CREATED:20250926T124657Z
LAST-MODIFIED:20250926T125132Z
UID:987507728-1760551200-1760560200@haffnet-online.de
SUMMARY:Fortbildung: „NSTEMI und Herzklappenfehler: Diagnostik und Therapie“
DESCRIPTION:Die Gesundheitsregion Vorpommern GmbH lädt am 15.10.2025 alle Interessierten zu einer Fortbildung ein. Es referieren Herr Chefarzt Barnaba Hejazin\, Facharzt für Innere Medizin mit der Spezialisierung auf Kardiologie von der Klinik für Kardiologie an dem Asklepios-Klinikum Pasewalk\, und leitender Oberarzt Herr Dr. med. Mariusz Zadura\, Facharzt für Innere Medizin und Kardiologie von der Klinik für Kardiologie an dem Asklepios-Klinikum Pasewalk. \nThema: „NSTEMI bei über 80-Jährigen: Therapie“  sowie   „Herzklappenfehler: Diagnostik und Therapie“\nDatum: 15.10.2025\nBeginn: 18:00 Uhr\nEnde: 20:30 Uhr\nOrt: Strandhalle Ueckermünde \nDie Fortbildung ist für Mitarbeiter und Mitglieder vom HaffNet sowie Mitarbeiter der AMEOS Klinika kostenfrei. Für alle anderen Interessierten der Haff-Region wird nach der Fortbildung eine Gebühr von 25\,00€ erhoben. \nWir bitten um Anmeldung mit Angabe der Teilnehmerzahl unter dem Stichwort „Kardiologie“ an info@gesund-in-vorpommern.de bis zum 10.10.2025. \nIm Anschluss an die Veranstaltung finden Sie im Rahmen einer Imbissversorgung auch Zeit zum kollegialen Austausch und zum Netzwerken.
URL:https://haffnet-online.de/event/fortbildung-nstemi-und-herzklappenfehler-diagnostik-und-therapie/
LOCATION:Strandhalle Ueckermünde\, Am Strand 2\, Ueckermünde\, 17373\, Deutschland
END:VEVENT
BEGIN:VEVENT
DTSTART;TZID=UTC:20251022T153000
DTEND;TZID=UTC:20251022T170000
DTSTAMP:20260425T130619
CREATED:20250203T154045Z
LAST-MODIFIED:20250203T154045Z
UID:987507425-1761147000-1761152400@haffnet-online.de
SUMMARY:Medizinforum „Hüft- und Kniearthrose – Behandlung im Endoprothetik-Zentrum Ueckermünde“
DESCRIPTION:Am 22.10.2025 lädt Herr Dr. med. Carsten Breß\, Chefarzt der Klinik für Orthopädie und Unfallchirurgie\, Sie herzlich zum Medizinforum „Hüft- und Kniearthrose – Behandlung im Endoprothetik-Zentrum Ueckermünde“ ein. \nBeginn ist um 15:30 Uhr im Sport- und Veranstaltungssaal im Ameos Klinikum Ueckermünde. Im Anschluss des Vortrages können Sie durch Ihre individuellen Fragen in den persönlichen Austausch mit den Referenten treten.
URL:https://haffnet-online.de/event/medizinforum-hueft-und-kniearthrose-behandlung-im-endoprothetik-zentrum-ueckermuende/
LOCATION:Veranstaltungssaal im Therapiezentrum (Haus 4) im AMEOS Klinikum Ueckermünde\, Ueckermünde\, 17373\, Deutschland
END:VEVENT
END:VCALENDAR