BEGIN:VCALENDAR
VERSION:2.0
PRODID:-//HaffNet - ECPv6.15.20//NONSGML v1.0//EN
CALSCALE:GREGORIAN
METHOD:PUBLISH
X-ORIGINAL-URL:https://haffnet-online.de
X-WR-CALDESC:Veranstaltungen für HaffNet
REFRESH-INTERVAL;VALUE=DURATION:PT1H
X-Robots-Tag:noindex
X-PUBLISHED-TTL:PT1H
BEGIN:VTIMEZONE
TZID:UTC
BEGIN:STANDARD
TZOFFSETFROM:+0000
TZOFFSETTO:+0000
TZNAME:UTC
DTSTART:20250101T000000
END:STANDARD
END:VTIMEZONE
BEGIN:VEVENT
DTSTART;TZID=UTC:20260424T140000
DTEND;TZID=UTC:20260424T180000
DTSTAMP:20260425T035524
CREATED:20260324T121026Z
LAST-MODIFIED:20260324T121229Z
UID:987508104-1777039200-1777053600@haffnet-online.de
SUMMARY:HaffNet - Zukunftswerkstatt: Gestalten - Entlasten - Versorgen!
DESCRIPTION:Im Rahmen unserer Netzkonferenz wollen wir unsere Zusammenarbeit im Gesundheitswesen sichtbar machen\, stärken und weiterentwickeln. \nFreuen Sie sich auf einen spannenden Impuls von Corinna Waffender zur “Lebensphasenorientierten Zusammenarbeit”\, interaktive Mini-Workshops und viel Zeit zum Netzwerken. \nJetzt anmelden unter Agenda / Anmeldung Zukunftswerkstatt und die Zukunft der regionalen Versorgung aktiv mitgestalten. \nWir freuen uns auf Sie! 💚
URL:https://haffnet-online.de/event/haffnet-zukunftswerkstatt-gestalten-entlasten-versorgen/
LOCATION:Haus an der Schleuse\, Schleusenstraße 5\, Torgelow\, 17358\, Deutschland
END:VEVENT
END:VCALENDAR