BEGIN:VCALENDAR
VERSION:2.0
PRODID:-//HaffNet - ECPv6.15.20//NONSGML v1.0//EN
CALSCALE:GREGORIAN
METHOD:PUBLISH
X-WR-CALNAME:HaffNet
X-ORIGINAL-URL:https://haffnet-online.de
X-WR-CALDESC:Veranstaltungen für HaffNet
REFRESH-INTERVAL;VALUE=DURATION:PT1H
X-Robots-Tag:noindex
X-PUBLISHED-TTL:PT1H
BEGIN:VTIMEZONE
TZID:UTC
BEGIN:STANDARD
TZOFFSETFROM:+0000
TZOFFSETTO:+0000
TZNAME:UTC
DTSTART:20250101T000000
END:STANDARD
END:VTIMEZONE
BEGIN:VEVENT
DTSTART;TZID=UTC:20260422T153000
DTEND;TZID=UTC:20260422T170000
DTSTAMP:20260425T021153
CREATED:20260112T094732Z
LAST-MODIFIED:20260112T094732Z
UID:987507871-1776871800-1776877200@haffnet-online.de
SUMMARY:Medizinforum „Was ist machbar? Gelenkersatz an Hüft- und Kniegelenken“
DESCRIPTION:Am 22.04.2026 lädt Herr Dr. med. Carsten Breß\, Chefarzt der Klinik für Orthopädie und Unfallchirurgie\, Sie herzlich zum Medizinforum „Was ist machbar? Gelenkersatz an Hüft- und Kniegelenken“ ein. \nBeginn ist um 15:30 Uhr im Sport- und Veranstaltungssaal (Haus 4) im AMEOS Klinikum Ueckermünde.Im Anschluss des Vortrages können Sie durch Ihre individuellen Fragen in den persönlichen Austausch mit dem Referenten treten.
URL:https://haffnet-online.de/event/medizinforum-was-ist-machbar-gelenkersatz-an-hueft-und-kniegelenken/
LOCATION:Veranstaltungssaal im Therapiezentrum (Haus 4) im AMEOS Klinikum Ueckermünde\, Ueckermünde\, 17373\, Deutschland
END:VEVENT
END:VCALENDAR