BEGIN:VCALENDAR
VERSION:2.0
PRODID:-//HaffNet - ECPv6.15.20//NONSGML v1.0//EN
CALSCALE:GREGORIAN
METHOD:PUBLISH
X-ORIGINAL-URL:https://haffnet-online.de
X-WR-CALDESC:Veranstaltungen für HaffNet
REFRESH-INTERVAL;VALUE=DURATION:PT1H
X-Robots-Tag:noindex
X-PUBLISHED-TTL:PT1H
BEGIN:VTIMEZONE
TZID:UTC
BEGIN:STANDARD
TZOFFSETFROM:+0000
TZOFFSETTO:+0000
TZNAME:UTC
DTSTART:20240101T000000
END:STANDARD
END:VTIMEZONE
BEGIN:VEVENT
DTSTART;TZID=UTC:20250924T153000
DTEND;TZID=UTC:20250924T170000
DTSTAMP:20260425T162741
CREATED:20250203T153923Z
LAST-MODIFIED:20250203T153923Z
UID:987507423-1758727800-1758733200@haffnet-online.de
SUMMARY:Medizinforum „Weibliche Harninkontinenz und Senkungsbeschwerden“
DESCRIPTION:Am 24.09.2025 lädt Frau Lilit Aznavuryan\, Chefärztin der Klinik für Frauenheilkunde und Geburtshilfe in Anklam\, Sie herzlich zum Medizinforum „Weibliche Harninkontinenz und Senkungsbeschwerden“ ein. \nBeginn ist um 15:30 Uhr im Sport- und Veranstaltungssaal im Ameos Klinikum Ueckermünde. Im Anschluss des Vortrages können Sie durch Ihre individuellen Fragen in den persönlichen Austausch mit den Referenten treten.
URL:https://haffnet-online.de/event/medizinforum-weibliche-harninkontinenz-und-senkungsbeschwerden/
LOCATION:Veranstaltungssaal im Therapiezentrum (Haus 4) im AMEOS Klinikum Ueckermünde\, Ueckermünde\, 17373\, Deutschland
END:VEVENT
END:VCALENDAR